BEGIN:VCALENDAR
VERSION:2.0
PRODID:-//PYVOBJECT//NONSGML Version 1//EN
BEGIN:VEVENT
UID:14478:283
DTSTART:20130421T130000
DTEND:20130421T180000
DESCRIPTION:Kulinarium mit stilvollem Empfang (Bei Sch&ouml\;nwetter Empfan
 g im Freien). Es kochen &quot\;Die 2&quot\; K&uuml\;chenmeister Peter Lein
 gartner und K&uuml\;chenmeister G&uuml\;nter.
DTSTAMP:20260421T192753Z
SUMMARY:Fruehlingskulinarium
END:VEVENT
END:VCALENDAR
