BEGIN:VCALENDAR
VERSION:2.0
PRODID:-//PYVOBJECT//NONSGML Version 1//EN
BEGIN:VEVENT
UID:14478:282
DTSTART:20130405T190000
DTEND:20130405T230000
DESCRIPTION:Whiskybegleitung zu typischen schottischen Gerichten.\n
DTSTAMP:20260421T231149Z
SUMMARY:Whisky Verkostung
END:VEVENT
END:VCALENDAR
